BEGIN:VCALENDAR
VERSION:2.0
PRODID:-//First Baptist Church - ECPv6.15.17.1//NONSGML v1.0//EN
CALSCALE:GREGORIAN
METHOD:PUBLISH
X-WR-CALNAME:First Baptist Church
X-ORIGINAL-URL:https://fbc-honolulu.org
X-WR-CALDESC:Events for First Baptist Church
REFRESH-INTERVAL;VALUE=DURATION:PT1H
X-Robots-Tag:noindex
X-PUBLISHED-TTL:PT1H
BEGIN:VTIMEZONE
TZID:UTC
BEGIN:STANDARD
TZOFFSETFROM:+0000
TZOFFSETTO:+0000
TZNAME:UTC
DTSTART:20250101T000000
END:STANDARD
END:VTIMEZONE
BEGIN:VEVENT
DTSTART;VALUE=DATE:20260424
DTEND;VALUE=DATE:20260425
DTSTAMP:20260420T162052
CREATED:20251019T081207Z
LAST-MODIFIED:20251022T100832Z
UID:10006042-1776988800-1777075199@fbc-honolulu.org
SUMMARY:Church Office Open (8:00 am)
DESCRIPTION:
URL:https://fbc-honolulu.org/event/church-office-open-800-am-3/2026-04-24/
CATEGORIES:FBC Event
END:VEVENT
BEGIN:VEVENT
DTSTART;VALUE=DATE:20260424
DTEND;VALUE=DATE:20260425
DTSTAMP:20260420T162052
CREATED:20251019T081237Z
LAST-MODIFIED:20251019T081237Z
UID:10006303-1776988800-1777075199@fbc-honolulu.org
SUMMARY:Japanese School (3:30 pm)
DESCRIPTION:
URL:https://fbc-honolulu.org/event/japanese-school-330-pm-5/2026-04-24/
END:VEVENT
BEGIN:VEVENT
DTSTART;VALUE=DATE:20260424
DTEND;VALUE=DATE:20260425
DTSTAMP:20260420T162052
CREATED:20251019T081304Z
LAST-MODIFIED:20251019T081304Z
UID:10006564-1776988800-1777075199@fbc-honolulu.org
SUMMARY:Micro Ladies Bible Study (4:00 pm)
DESCRIPTION:
URL:https://fbc-honolulu.org/event/micro-ladies-bible-study-400-pm-2/2026-04-24/
END:VEVENT
BEGIN:VEVENT
DTSTART;VALUE=DATE:20260501
DTEND;VALUE=DATE:20260502
DTSTAMP:20260420T162052
CREATED:20251019T081207Z
LAST-MODIFIED:20251022T100832Z
UID:10006043-1777593600-1777679999@fbc-honolulu.org
SUMMARY:Church Office Open (8:00 am)
DESCRIPTION:
URL:https://fbc-honolulu.org/event/church-office-open-800-am-3/2026-05-01/
CATEGORIES:FBC Event
END:VEVENT
BEGIN:VEVENT
DTSTART;VALUE=DATE:20260501
DTEND;VALUE=DATE:20260502
DTSTAMP:20260420T162052
CREATED:20251019T081237Z
LAST-MODIFIED:20251019T081237Z
UID:10006304-1777593600-1777679999@fbc-honolulu.org
SUMMARY:Japanese School (3:30 pm)
DESCRIPTION:
URL:https://fbc-honolulu.org/event/japanese-school-330-pm-5/2026-05-01/
END:VEVENT
BEGIN:VEVENT
DTSTART;VALUE=DATE:20260501
DTEND;VALUE=DATE:20260502
DTSTAMP:20260420T162052
CREATED:20251019T081304Z
LAST-MODIFIED:20251019T081304Z
UID:10006565-1777593600-1777679999@fbc-honolulu.org
SUMMARY:Micro Ladies Bible Study (4:00 pm)
DESCRIPTION:
URL:https://fbc-honolulu.org/event/micro-ladies-bible-study-400-pm-2/2026-05-01/
END:VEVENT
BEGIN:VEVENT
DTSTART;VALUE=DATE:20260508
DTEND;VALUE=DATE:20260509
DTSTAMP:20260420T162052
CREATED:20251019T081207Z
LAST-MODIFIED:20251022T100832Z
UID:10006044-1778198400-1778284799@fbc-honolulu.org
SUMMARY:Church Office Open (8:00 am)
DESCRIPTION:
URL:https://fbc-honolulu.org/event/church-office-open-800-am-3/2026-05-08/
CATEGORIES:FBC Event
END:VEVENT
BEGIN:VEVENT
DTSTART;VALUE=DATE:20260508
DTEND;VALUE=DATE:20260509
DTSTAMP:20260420T162052
CREATED:20251019T081237Z
LAST-MODIFIED:20251019T081237Z
UID:10006305-1778198400-1778284799@fbc-honolulu.org
SUMMARY:Japanese School (3:30 pm)
DESCRIPTION:
URL:https://fbc-honolulu.org/event/japanese-school-330-pm-5/2026-05-08/
END:VEVENT
BEGIN:VEVENT
DTSTART;VALUE=DATE:20260508
DTEND;VALUE=DATE:20260509
DTSTAMP:20260420T162052
CREATED:20251019T081304Z
LAST-MODIFIED:20251019T081304Z
UID:10006566-1778198400-1778284799@fbc-honolulu.org
SUMMARY:Micro Ladies Bible Study (4:00 pm)
DESCRIPTION:
URL:https://fbc-honolulu.org/event/micro-ladies-bible-study-400-pm-2/2026-05-08/
END:VEVENT
BEGIN:VEVENT
DTSTART;VALUE=DATE:20260515
DTEND;VALUE=DATE:20260516
DTSTAMP:20260420T162052
CREATED:20251019T081207Z
LAST-MODIFIED:20251022T100832Z
UID:10006045-1778803200-1778889599@fbc-honolulu.org
SUMMARY:Church Office Open (8:00 am)
DESCRIPTION:
URL:https://fbc-honolulu.org/event/church-office-open-800-am-3/2026-05-15/
CATEGORIES:FBC Event
END:VEVENT
BEGIN:VEVENT
DTSTART;VALUE=DATE:20260515
DTEND;VALUE=DATE:20260516
DTSTAMP:20260420T162052
CREATED:20251019T081237Z
LAST-MODIFIED:20251019T081237Z
UID:10006306-1778803200-1778889599@fbc-honolulu.org
SUMMARY:Japanese School (3:30 pm)
DESCRIPTION:
URL:https://fbc-honolulu.org/event/japanese-school-330-pm-5/2026-05-15/
END:VEVENT
BEGIN:VEVENT
DTSTART;VALUE=DATE:20260515
DTEND;VALUE=DATE:20260516
DTSTAMP:20260420T162052
CREATED:20251019T081304Z
LAST-MODIFIED:20251019T081304Z
UID:10006567-1778803200-1778889599@fbc-honolulu.org
SUMMARY:Micro Ladies Bible Study (4:00 pm)
DESCRIPTION:
URL:https://fbc-honolulu.org/event/micro-ladies-bible-study-400-pm-2/2026-05-15/
END:VEVENT
BEGIN:VEVENT
DTSTART;VALUE=DATE:20260522
DTEND;VALUE=DATE:20260523
DTSTAMP:20260420T162052
CREATED:20251019T081207Z
LAST-MODIFIED:20251022T100832Z
UID:10006046-1779408000-1779494399@fbc-honolulu.org
SUMMARY:Church Office Open (8:00 am)
DESCRIPTION:
URL:https://fbc-honolulu.org/event/church-office-open-800-am-3/2026-05-22/
CATEGORIES:FBC Event
END:VEVENT
BEGIN:VEVENT
DTSTART;VALUE=DATE:20260522
DTEND;VALUE=DATE:20260523
DTSTAMP:20260420T162052
CREATED:20251019T081237Z
LAST-MODIFIED:20251019T081237Z
UID:10006307-1779408000-1779494399@fbc-honolulu.org
SUMMARY:Japanese School (3:30 pm)
DESCRIPTION:
URL:https://fbc-honolulu.org/event/japanese-school-330-pm-5/2026-05-22/
END:VEVENT
BEGIN:VEVENT
DTSTART;VALUE=DATE:20260522
DTEND;VALUE=DATE:20260523
DTSTAMP:20260420T162052
CREATED:20251019T081304Z
LAST-MODIFIED:20251019T081304Z
UID:10006568-1779408000-1779494399@fbc-honolulu.org
SUMMARY:Micro Ladies Bible Study (4:00 pm)
DESCRIPTION:
URL:https://fbc-honolulu.org/event/micro-ladies-bible-study-400-pm-2/2026-05-22/
END:VEVENT
BEGIN:VEVENT
DTSTART;VALUE=DATE:20260529
DTEND;VALUE=DATE:20260530
DTSTAMP:20260420T162052
CREATED:20251019T081207Z
LAST-MODIFIED:20251022T100832Z
UID:10006047-1780012800-1780099199@fbc-honolulu.org
SUMMARY:Church Office Open (8:00 am)
DESCRIPTION:
URL:https://fbc-honolulu.org/event/church-office-open-800-am-3/2026-05-29/
CATEGORIES:FBC Event
END:VEVENT
BEGIN:VEVENT
DTSTART;VALUE=DATE:20260529
DTEND;VALUE=DATE:20260530
DTSTAMP:20260420T162052
CREATED:20251019T081237Z
LAST-MODIFIED:20251019T081237Z
UID:10006308-1780012800-1780099199@fbc-honolulu.org
SUMMARY:Japanese School (3:30 pm)
DESCRIPTION:
URL:https://fbc-honolulu.org/event/japanese-school-330-pm-5/2026-05-29/
END:VEVENT
BEGIN:VEVENT
DTSTART;VALUE=DATE:20260529
DTEND;VALUE=DATE:20260530
DTSTAMP:20260420T162052
CREATED:20251019T081304Z
LAST-MODIFIED:20251019T081304Z
UID:10006569-1780012800-1780099199@fbc-honolulu.org
SUMMARY:Micro Ladies Bible Study (4:00 pm)
DESCRIPTION:
URL:https://fbc-honolulu.org/event/micro-ladies-bible-study-400-pm-2/2026-05-29/
END:VEVENT
BEGIN:VEVENT
DTSTART;VALUE=DATE:20260605
DTEND;VALUE=DATE:20260606
DTSTAMP:20260420T162052
CREATED:20251019T081207Z
LAST-MODIFIED:20251022T100832Z
UID:10006048-1780617600-1780703999@fbc-honolulu.org
SUMMARY:Church Office Open (8:00 am)
DESCRIPTION:
URL:https://fbc-honolulu.org/event/church-office-open-800-am-3/2026-06-05/
CATEGORIES:FBC Event
END:VEVENT
BEGIN:VEVENT
DTSTART;VALUE=DATE:20260605
DTEND;VALUE=DATE:20260606
DTSTAMP:20260420T162052
CREATED:20251019T081237Z
LAST-MODIFIED:20251019T081237Z
UID:10006309-1780617600-1780703999@fbc-honolulu.org
SUMMARY:Japanese School (3:30 pm)
DESCRIPTION:
URL:https://fbc-honolulu.org/event/japanese-school-330-pm-5/2026-06-05/
END:VEVENT
BEGIN:VEVENT
DTSTART;VALUE=DATE:20260605
DTEND;VALUE=DATE:20260606
DTSTAMP:20260420T162052
CREATED:20251019T081304Z
LAST-MODIFIED:20251019T081304Z
UID:10006570-1780617600-1780703999@fbc-honolulu.org
SUMMARY:Micro Ladies Bible Study (4:00 pm)
DESCRIPTION:
URL:https://fbc-honolulu.org/event/micro-ladies-bible-study-400-pm-2/2026-06-05/
END:VEVENT
BEGIN:VEVENT
DTSTART;VALUE=DATE:20260612
DTEND;VALUE=DATE:20260613
DTSTAMP:20260420T162052
CREATED:20251019T081207Z
LAST-MODIFIED:20251022T100832Z
UID:10006049-1781222400-1781308799@fbc-honolulu.org
SUMMARY:Church Office Open (8:00 am)
DESCRIPTION:
URL:https://fbc-honolulu.org/event/church-office-open-800-am-3/2026-06-12/
CATEGORIES:FBC Event
END:VEVENT
BEGIN:VEVENT
DTSTART;VALUE=DATE:20260612
DTEND;VALUE=DATE:20260613
DTSTAMP:20260420T162052
CREATED:20251019T081237Z
LAST-MODIFIED:20251019T081237Z
UID:10006310-1781222400-1781308799@fbc-honolulu.org
SUMMARY:Japanese School (3:30 pm)
DESCRIPTION:
URL:https://fbc-honolulu.org/event/japanese-school-330-pm-5/2026-06-12/
END:VEVENT
BEGIN:VEVENT
DTSTART;VALUE=DATE:20260612
DTEND;VALUE=DATE:20260613
DTSTAMP:20260420T162052
CREATED:20251019T081304Z
LAST-MODIFIED:20251019T081304Z
UID:10006571-1781222400-1781308799@fbc-honolulu.org
SUMMARY:Micro Ladies Bible Study (4:00 pm)
DESCRIPTION:
URL:https://fbc-honolulu.org/event/micro-ladies-bible-study-400-pm-2/2026-06-12/
END:VEVENT
BEGIN:VEVENT
DTSTART;VALUE=DATE:20260619
DTEND;VALUE=DATE:20260620
DTSTAMP:20260420T162052
CREATED:20251019T081207Z
LAST-MODIFIED:20251022T100832Z
UID:10006050-1781827200-1781913599@fbc-honolulu.org
SUMMARY:Church Office Open (8:00 am)
DESCRIPTION:
URL:https://fbc-honolulu.org/event/church-office-open-800-am-3/2026-06-19/
CATEGORIES:FBC Event
END:VEVENT
BEGIN:VEVENT
DTSTART;VALUE=DATE:20260619
DTEND;VALUE=DATE:20260620
DTSTAMP:20260420T162052
CREATED:20251019T081237Z
LAST-MODIFIED:20251019T081237Z
UID:10006311-1781827200-1781913599@fbc-honolulu.org
SUMMARY:Japanese School (3:30 pm)
DESCRIPTION:
URL:https://fbc-honolulu.org/event/japanese-school-330-pm-5/2026-06-19/
END:VEVENT
BEGIN:VEVENT
DTSTART;VALUE=DATE:20260619
DTEND;VALUE=DATE:20260620
DTSTAMP:20260420T162052
CREATED:20251019T081304Z
LAST-MODIFIED:20251019T081304Z
UID:10006572-1781827200-1781913599@fbc-honolulu.org
SUMMARY:Micro Ladies Bible Study (4:00 pm)
DESCRIPTION:
URL:https://fbc-honolulu.org/event/micro-ladies-bible-study-400-pm-2/2026-06-19/
END:VEVENT
BEGIN:VEVENT
DTSTART;VALUE=DATE:20260626
DTEND;VALUE=DATE:20260627
DTSTAMP:20260420T162052
CREATED:20251019T081207Z
LAST-MODIFIED:20251022T100832Z
UID:10006051-1782432000-1782518399@fbc-honolulu.org
SUMMARY:Church Office Open (8:00 am)
DESCRIPTION:
URL:https://fbc-honolulu.org/event/church-office-open-800-am-3/2026-06-26/
CATEGORIES:FBC Event
END:VEVENT
BEGIN:VEVENT
DTSTART;VALUE=DATE:20260626
DTEND;VALUE=DATE:20260627
DTSTAMP:20260420T162052
CREATED:20251019T081237Z
LAST-MODIFIED:20251019T081237Z
UID:10006312-1782432000-1782518399@fbc-honolulu.org
SUMMARY:Japanese School (3:30 pm)
DESCRIPTION:
URL:https://fbc-honolulu.org/event/japanese-school-330-pm-5/2026-06-26/
END:VEVENT
BEGIN:VEVENT
DTSTART;VALUE=DATE:20260626
DTEND;VALUE=DATE:20260627
DTSTAMP:20260420T162052
CREATED:20251019T081304Z
LAST-MODIFIED:20251019T081304Z
UID:10006573-1782432000-1782518399@fbc-honolulu.org
SUMMARY:Micro Ladies Bible Study (4:00 pm)
DESCRIPTION:
URL:https://fbc-honolulu.org/event/micro-ladies-bible-study-400-pm-2/2026-06-26/
END:VEVENT
END:VCALENDAR