BEGIN:VCALENDAR
VERSION:2.0
PRODID:-//First Baptist Church - ECPv6.15.17.1//NONSGML v1.0//EN
CALSCALE:GREGORIAN
METHOD:PUBLISH
X-WR-CALNAME:First Baptist Church
X-ORIGINAL-URL:https://fbc-honolulu.org
X-WR-CALDESC:Events for First Baptist Church
REFRESH-INTERVAL;VALUE=DURATION:PT1H
X-Robots-Tag:noindex
X-PUBLISHED-TTL:PT1H
BEGIN:VTIMEZONE
TZID:UTC
BEGIN:STANDARD
TZOFFSETFROM:+0000
TZOFFSETTO:+0000
TZNAME:UTC
DTSTART:20250101T000000
END:STANDARD
END:VTIMEZONE
BEGIN:VEVENT
DTSTART;VALUE=DATE:20260422
DTEND;VALUE=DATE:20260423
DTSTAMP:20260422T094301
CREATED:20251019T080603Z
LAST-MODIFIED:20251022T100933Z
UID:10004215-1776816000-1776902399@fbc-honolulu.org
SUMMARY:Dinner (5:30 pm)
DESCRIPTION:
URL:https://fbc-honolulu.org/event/dinner-530-pm/2026-04-22/
CATEGORIES:FBC Event
END:VEVENT
BEGIN:VEVENT
DTSTART;VALUE=DATE:20260422
DTEND;VALUE=DATE:20260423
DTSTAMP:20260422T094301
CREATED:20251019T080651Z
LAST-MODIFIED:20251022T100955Z
UID:10004476-1776816000-1776902399@fbc-honolulu.org
SUMMARY:Bible Study\, Fellowship Hall (6:15 pm)
DESCRIPTION:
URL:https://fbc-honolulu.org/event/bible-study-fellowship-hall-615-pm/2026-04-22/
CATEGORIES:FBC Event
END:VEVENT
BEGIN:VEVENT
DTSTART;VALUE=DATE:20260422
DTEND;VALUE=DATE:20260423
DTSTAMP:20260422T094301
CREATED:20251019T080722Z
LAST-MODIFIED:20251019T080722Z
UID:10004737-1776816000-1776902399@fbc-honolulu.org
SUMMARY:Korean Bible Study (7:30 pm)
DESCRIPTION:
URL:https://fbc-honolulu.org/event/korean-bible-study-730-pm/2026-04-22/
END:VEVENT
BEGIN:VEVENT
DTSTART;VALUE=DATE:20260429
DTEND;VALUE=DATE:20260430
DTSTAMP:20260422T094301
CREATED:20251019T080603Z
LAST-MODIFIED:20251022T100933Z
UID:10004216-1777420800-1777507199@fbc-honolulu.org
SUMMARY:Dinner (5:30 pm)
DESCRIPTION:
URL:https://fbc-honolulu.org/event/dinner-530-pm/2026-04-29/
CATEGORIES:FBC Event
END:VEVENT
BEGIN:VEVENT
DTSTART;VALUE=DATE:20260429
DTEND;VALUE=DATE:20260430
DTSTAMP:20260422T094301
CREATED:20251019T080651Z
LAST-MODIFIED:20251022T100955Z
UID:10004477-1777420800-1777507199@fbc-honolulu.org
SUMMARY:Bible Study\, Fellowship Hall (6:15 pm)
DESCRIPTION:
URL:https://fbc-honolulu.org/event/bible-study-fellowship-hall-615-pm/2026-04-29/
CATEGORIES:FBC Event
END:VEVENT
BEGIN:VEVENT
DTSTART;VALUE=DATE:20260429
DTEND;VALUE=DATE:20260430
DTSTAMP:20260422T094301
CREATED:20251019T080722Z
LAST-MODIFIED:20251019T080722Z
UID:10004738-1777420800-1777507199@fbc-honolulu.org
SUMMARY:Korean Bible Study (7:30 pm)
DESCRIPTION:
URL:https://fbc-honolulu.org/event/korean-bible-study-730-pm/2026-04-29/
END:VEVENT
BEGIN:VEVENT
DTSTART;VALUE=DATE:20260506
DTEND;VALUE=DATE:20260507
DTSTAMP:20260422T094301
CREATED:20251019T080603Z
LAST-MODIFIED:20251022T100933Z
UID:10004217-1778025600-1778111999@fbc-honolulu.org
SUMMARY:Dinner (5:30 pm)
DESCRIPTION:
URL:https://fbc-honolulu.org/event/dinner-530-pm/2026-05-06/
CATEGORIES:FBC Event
END:VEVENT
BEGIN:VEVENT
DTSTART;VALUE=DATE:20260506
DTEND;VALUE=DATE:20260507
DTSTAMP:20260422T094301
CREATED:20251019T080651Z
LAST-MODIFIED:20251022T100955Z
UID:10004478-1778025600-1778111999@fbc-honolulu.org
SUMMARY:Bible Study\, Fellowship Hall (6:15 pm)
DESCRIPTION:
URL:https://fbc-honolulu.org/event/bible-study-fellowship-hall-615-pm/2026-05-06/
CATEGORIES:FBC Event
END:VEVENT
BEGIN:VEVENT
DTSTART;VALUE=DATE:20260506
DTEND;VALUE=DATE:20260507
DTSTAMP:20260422T094301
CREATED:20251019T080722Z
LAST-MODIFIED:20251019T080722Z
UID:10004739-1778025600-1778111999@fbc-honolulu.org
SUMMARY:Korean Bible Study (7:30 pm)
DESCRIPTION:
URL:https://fbc-honolulu.org/event/korean-bible-study-730-pm/2026-05-06/
END:VEVENT
BEGIN:VEVENT
DTSTART;VALUE=DATE:20260513
DTEND;VALUE=DATE:20260514
DTSTAMP:20260422T094301
CREATED:20251019T080603Z
LAST-MODIFIED:20251022T100933Z
UID:10004218-1778630400-1778716799@fbc-honolulu.org
SUMMARY:Dinner (5:30 pm)
DESCRIPTION:
URL:https://fbc-honolulu.org/event/dinner-530-pm/2026-05-13/
CATEGORIES:FBC Event
END:VEVENT
BEGIN:VEVENT
DTSTART;VALUE=DATE:20260513
DTEND;VALUE=DATE:20260514
DTSTAMP:20260422T094301
CREATED:20251019T080651Z
LAST-MODIFIED:20251022T100955Z
UID:10004479-1778630400-1778716799@fbc-honolulu.org
SUMMARY:Bible Study\, Fellowship Hall (6:15 pm)
DESCRIPTION:
URL:https://fbc-honolulu.org/event/bible-study-fellowship-hall-615-pm/2026-05-13/
CATEGORIES:FBC Event
END:VEVENT
BEGIN:VEVENT
DTSTART;VALUE=DATE:20260513
DTEND;VALUE=DATE:20260514
DTSTAMP:20260422T094301
CREATED:20251019T080722Z
LAST-MODIFIED:20251019T080722Z
UID:10004740-1778630400-1778716799@fbc-honolulu.org
SUMMARY:Korean Bible Study (7:30 pm)
DESCRIPTION:
URL:https://fbc-honolulu.org/event/korean-bible-study-730-pm/2026-05-13/
END:VEVENT
BEGIN:VEVENT
DTSTART;VALUE=DATE:20260520
DTEND;VALUE=DATE:20260521
DTSTAMP:20260422T094301
CREATED:20251019T080603Z
LAST-MODIFIED:20251022T100933Z
UID:10004219-1779235200-1779321599@fbc-honolulu.org
SUMMARY:Dinner (5:30 pm)
DESCRIPTION:
URL:https://fbc-honolulu.org/event/dinner-530-pm/2026-05-20/
CATEGORIES:FBC Event
END:VEVENT
BEGIN:VEVENT
DTSTART;VALUE=DATE:20260520
DTEND;VALUE=DATE:20260521
DTSTAMP:20260422T094301
CREATED:20251019T080651Z
LAST-MODIFIED:20251022T100955Z
UID:10004480-1779235200-1779321599@fbc-honolulu.org
SUMMARY:Bible Study\, Fellowship Hall (6:15 pm)
DESCRIPTION:
URL:https://fbc-honolulu.org/event/bible-study-fellowship-hall-615-pm/2026-05-20/
CATEGORIES:FBC Event
END:VEVENT
BEGIN:VEVENT
DTSTART;VALUE=DATE:20260520
DTEND;VALUE=DATE:20260521
DTSTAMP:20260422T094301
CREATED:20251019T080722Z
LAST-MODIFIED:20251019T080722Z
UID:10004741-1779235200-1779321599@fbc-honolulu.org
SUMMARY:Korean Bible Study (7:30 pm)
DESCRIPTION:
URL:https://fbc-honolulu.org/event/korean-bible-study-730-pm/2026-05-20/
END:VEVENT
BEGIN:VEVENT
DTSTART;VALUE=DATE:20260527
DTEND;VALUE=DATE:20260528
DTSTAMP:20260422T094301
CREATED:20251019T080603Z
LAST-MODIFIED:20251022T100933Z
UID:10004220-1779840000-1779926399@fbc-honolulu.org
SUMMARY:Dinner (5:30 pm)
DESCRIPTION:
URL:https://fbc-honolulu.org/event/dinner-530-pm/2026-05-27/
CATEGORIES:FBC Event
END:VEVENT
BEGIN:VEVENT
DTSTART;VALUE=DATE:20260527
DTEND;VALUE=DATE:20260528
DTSTAMP:20260422T094301
CREATED:20251019T080651Z
LAST-MODIFIED:20251022T100955Z
UID:10004481-1779840000-1779926399@fbc-honolulu.org
SUMMARY:Bible Study\, Fellowship Hall (6:15 pm)
DESCRIPTION:
URL:https://fbc-honolulu.org/event/bible-study-fellowship-hall-615-pm/2026-05-27/
CATEGORIES:FBC Event
END:VEVENT
BEGIN:VEVENT
DTSTART;VALUE=DATE:20260527
DTEND;VALUE=DATE:20260528
DTSTAMP:20260422T094301
CREATED:20251019T080722Z
LAST-MODIFIED:20251019T080722Z
UID:10004742-1779840000-1779926399@fbc-honolulu.org
SUMMARY:Korean Bible Study (7:30 pm)
DESCRIPTION:
URL:https://fbc-honolulu.org/event/korean-bible-study-730-pm/2026-05-27/
END:VEVENT
BEGIN:VEVENT
DTSTART;VALUE=DATE:20260603
DTEND;VALUE=DATE:20260604
DTSTAMP:20260422T094301
CREATED:20251019T080603Z
LAST-MODIFIED:20251022T100933Z
UID:10004221-1780444800-1780531199@fbc-honolulu.org
SUMMARY:Dinner (5:30 pm)
DESCRIPTION:
URL:https://fbc-honolulu.org/event/dinner-530-pm/2026-06-03/
CATEGORIES:FBC Event
END:VEVENT
BEGIN:VEVENT
DTSTART;VALUE=DATE:20260603
DTEND;VALUE=DATE:20260604
DTSTAMP:20260422T094301
CREATED:20251019T080651Z
LAST-MODIFIED:20251022T100955Z
UID:10004482-1780444800-1780531199@fbc-honolulu.org
SUMMARY:Bible Study\, Fellowship Hall (6:15 pm)
DESCRIPTION:
URL:https://fbc-honolulu.org/event/bible-study-fellowship-hall-615-pm/2026-06-03/
CATEGORIES:FBC Event
END:VEVENT
BEGIN:VEVENT
DTSTART;VALUE=DATE:20260603
DTEND;VALUE=DATE:20260604
DTSTAMP:20260422T094301
CREATED:20251019T080722Z
LAST-MODIFIED:20251019T080722Z
UID:10004743-1780444800-1780531199@fbc-honolulu.org
SUMMARY:Korean Bible Study (7:30 pm)
DESCRIPTION:
URL:https://fbc-honolulu.org/event/korean-bible-study-730-pm/2026-06-03/
END:VEVENT
BEGIN:VEVENT
DTSTART;VALUE=DATE:20260610
DTEND;VALUE=DATE:20260611
DTSTAMP:20260422T094301
CREATED:20251019T080603Z
LAST-MODIFIED:20251022T100933Z
UID:10004222-1781049600-1781135999@fbc-honolulu.org
SUMMARY:Dinner (5:30 pm)
DESCRIPTION:
URL:https://fbc-honolulu.org/event/dinner-530-pm/2026-06-10/
CATEGORIES:FBC Event
END:VEVENT
BEGIN:VEVENT
DTSTART;VALUE=DATE:20260610
DTEND;VALUE=DATE:20260611
DTSTAMP:20260422T094301
CREATED:20251019T080651Z
LAST-MODIFIED:20251022T100955Z
UID:10004483-1781049600-1781135999@fbc-honolulu.org
SUMMARY:Bible Study\, Fellowship Hall (6:15 pm)
DESCRIPTION:
URL:https://fbc-honolulu.org/event/bible-study-fellowship-hall-615-pm/2026-06-10/
CATEGORIES:FBC Event
END:VEVENT
BEGIN:VEVENT
DTSTART;VALUE=DATE:20260610
DTEND;VALUE=DATE:20260611
DTSTAMP:20260422T094301
CREATED:20251019T080722Z
LAST-MODIFIED:20251019T080722Z
UID:10004744-1781049600-1781135999@fbc-honolulu.org
SUMMARY:Korean Bible Study (7:30 pm)
DESCRIPTION:
URL:https://fbc-honolulu.org/event/korean-bible-study-730-pm/2026-06-10/
END:VEVENT
BEGIN:VEVENT
DTSTART;VALUE=DATE:20260617
DTEND;VALUE=DATE:20260618
DTSTAMP:20260422T094301
CREATED:20251019T080603Z
LAST-MODIFIED:20251022T100933Z
UID:10004223-1781654400-1781740799@fbc-honolulu.org
SUMMARY:Dinner (5:30 pm)
DESCRIPTION:
URL:https://fbc-honolulu.org/event/dinner-530-pm/2026-06-17/
CATEGORIES:FBC Event
END:VEVENT
BEGIN:VEVENT
DTSTART;VALUE=DATE:20260617
DTEND;VALUE=DATE:20260618
DTSTAMP:20260422T094301
CREATED:20251019T080651Z
LAST-MODIFIED:20251022T100955Z
UID:10004484-1781654400-1781740799@fbc-honolulu.org
SUMMARY:Bible Study\, Fellowship Hall (6:15 pm)
DESCRIPTION:
URL:https://fbc-honolulu.org/event/bible-study-fellowship-hall-615-pm/2026-06-17/
CATEGORIES:FBC Event
END:VEVENT
BEGIN:VEVENT
DTSTART;VALUE=DATE:20260617
DTEND;VALUE=DATE:20260618
DTSTAMP:20260422T094301
CREATED:20251019T080722Z
LAST-MODIFIED:20251019T080722Z
UID:10004745-1781654400-1781740799@fbc-honolulu.org
SUMMARY:Korean Bible Study (7:30 pm)
DESCRIPTION:
URL:https://fbc-honolulu.org/event/korean-bible-study-730-pm/2026-06-17/
END:VEVENT
BEGIN:VEVENT
DTSTART;VALUE=DATE:20260624
DTEND;VALUE=DATE:20260625
DTSTAMP:20260422T094301
CREATED:20251019T080603Z
LAST-MODIFIED:20251022T100933Z
UID:10004224-1782259200-1782345599@fbc-honolulu.org
SUMMARY:Dinner (5:30 pm)
DESCRIPTION:
URL:https://fbc-honolulu.org/event/dinner-530-pm/2026-06-24/
CATEGORIES:FBC Event
END:VEVENT
BEGIN:VEVENT
DTSTART;VALUE=DATE:20260624
DTEND;VALUE=DATE:20260625
DTSTAMP:20260422T094301
CREATED:20251019T080651Z
LAST-MODIFIED:20251022T100955Z
UID:10004485-1782259200-1782345599@fbc-honolulu.org
SUMMARY:Bible Study\, Fellowship Hall (6:15 pm)
DESCRIPTION:
URL:https://fbc-honolulu.org/event/bible-study-fellowship-hall-615-pm/2026-06-24/
CATEGORIES:FBC Event
END:VEVENT
BEGIN:VEVENT
DTSTART;VALUE=DATE:20260624
DTEND;VALUE=DATE:20260625
DTSTAMP:20260422T094301
CREATED:20251019T080722Z
LAST-MODIFIED:20251019T080722Z
UID:10004746-1782259200-1782345599@fbc-honolulu.org
SUMMARY:Korean Bible Study (7:30 pm)
DESCRIPTION:
URL:https://fbc-honolulu.org/event/korean-bible-study-730-pm/2026-06-24/
END:VEVENT
END:VCALENDAR